BEGIN:VCALENDAR
VERSION:2.0
PRODID:-//BIS Pinkafeld - ECPv6.15.17.1//NONSGML v1.0//EN
CALSCALE:GREGORIAN
METHOD:PUBLISH
X-ORIGINAL-URL:https://www.bis-pinkafeld.at
X-WR-CALDESC:Veranstaltungen für BIS Pinkafeld
REFRESH-INTERVAL;VALUE=DURATION:PT1H
X-Robots-Tag:noindex
X-PUBLISHED-TTL:PT1H
BEGIN:VTIMEZONE
TZID:Europe/Vienna
BEGIN:DAYLIGHT
TZOFFSETFROM:+0100
TZOFFSETTO:+0200
TZNAME:CEST
DTSTART:20210328T010000
END:DAYLIGHT
BEGIN:STANDARD
TZOFFSETFROM:+0200
TZOFFSETTO:+0100
TZNAME:CET
DTSTART:20211031T010000
END:STANDARD
BEGIN:DAYLIGHT
TZOFFSETFROM:+0100
TZOFFSETTO:+0200
TZNAME:CEST
DTSTART:20220327T010000
END:DAYLIGHT
BEGIN:STANDARD
TZOFFSETFROM:+0200
TZOFFSETTO:+0100
TZNAME:CET
DTSTART:20221030T010000
END:STANDARD
BEGIN:DAYLIGHT
TZOFFSETFROM:+0100
TZOFFSETTO:+0200
TZNAME:CEST
DTSTART:20230326T010000
END:DAYLIGHT
BEGIN:STANDARD
TZOFFSETFROM:+0200
TZOFFSETTO:+0100
TZNAME:CET
DTSTART:20231029T010000
END:STANDARD
END:VTIMEZONE
BEGIN:VEVENT
DTSTART;TZID=Europe/Vienna:20221202T120000
DTEND;TZID=Europe/Vienna:20221202T170000
DTSTAMP:20260424T115553
CREATED:20220923T062744Z
LAST-MODIFIED:20220923T063633Z
UID:4794-1669982400-1670000400@www.bis-pinkafeld.at
SUMMARY:Tag der offenen Tür in der SOB\, HLSP und SPA Pinkafeld
DESCRIPTION:
URL:https://www.bis-pinkafeld.at/veranstaltung/tag-der-offenen-tuer-der-sob-hlsp-und-spa/
LOCATION:SOB Pinkafeld\, 7423 Pinkafeld\, Dr. Alfred Kranich-Platz 3
END:VEVENT
END:VCALENDAR