BEGIN:VCALENDAR
VERSION:2.0
PRODID:-//BIS Pinkafeld - ECPv6.15.17.1//NONSGML v1.0//EN
CALSCALE:GREGORIAN
METHOD:PUBLISH
X-WR-CALNAME:BIS Pinkafeld
X-ORIGINAL-URL:https://www.bis-pinkafeld.at
X-WR-CALDESC:Veranstaltungen für BIS Pinkafeld
REFRESH-INTERVAL;VALUE=DURATION:PT1H
X-Robots-Tag:noindex
X-PUBLISHED-TTL:PT1H
BEGIN:VTIMEZONE
TZID:Europe/Vienna
BEGIN:DAYLIGHT
TZOFFSETFROM:+0100
TZOFFSETTO:+0200
TZNAME:CEST
DTSTART:20220327T010000
END:DAYLIGHT
BEGIN:STANDARD
TZOFFSETFROM:+0200
TZOFFSETTO:+0100
TZNAME:CET
DTSTART:20221030T010000
END:STANDARD
BEGIN:DAYLIGHT
TZOFFSETFROM:+0100
TZOFFSETTO:+0200
TZNAME:CEST
DTSTART:20230326T010000
END:DAYLIGHT
BEGIN:STANDARD
TZOFFSETFROM:+0200
TZOFFSETTO:+0100
TZNAME:CET
DTSTART:20231029T010000
END:STANDARD
BEGIN:DAYLIGHT
TZOFFSETFROM:+0100
TZOFFSETTO:+0200
TZNAME:CEST
DTSTART:20240331T010000
END:DAYLIGHT
BEGIN:STANDARD
TZOFFSETFROM:+0200
TZOFFSETTO:+0100
TZNAME:CET
DTSTART:20241027T010000
END:STANDARD
END:VTIMEZONE
BEGIN:VEVENT
DTSTART;TZID=Europe/Vienna:20231117T100000
DTEND;TZID=Europe/Vienna:20231117T170000
DTSTAMP:20260425T015413
CREATED:20230918T123707Z
LAST-MODIFIED:20230918T123718Z
UID:6270-1700215200-1700240400@www.bis-pinkafeld.at
SUMMARY:Bildungs- und Berufsmesse Hartberg
DESCRIPTION:
URL:https://www.bis-pinkafeld.at/veranstaltung/bildungs-und-berufsmesse-hartberg-2/
LOCATION:Stadtwerke-Hartberg-Halle
CATEGORIES:Messe
END:VEVENT
BEGIN:VEVENT
DTSTART;TZID=Europe/Vienna:20231117T120000
DTEND;TZID=Europe/Vienna:20231117T160000
DTSTAMP:20260425T015413
CREATED:20230918T123846Z
LAST-MODIFIED:20230918T124039Z
UID:6272-1700222400-1700236800@www.bis-pinkafeld.at
SUMMARY:SOB Frauenkirchen: Tag der offenen Tür
DESCRIPTION:
URL:https://www.bis-pinkafeld.at/veranstaltung/tag-der-offenen-tuer/
LOCATION:SOB Frauenkirchen\, 7132 Frauenkirchen\, Kirchenplatz 1
CATEGORIES:Informationsveranstaltung
END:VEVENT
END:VCALENDAR