BEGIN:VCALENDAR
VERSION:2.0
PRODID:-//BIS Pinkafeld - ECPv6.15.17.1//NONSGML v1.0//EN
CALSCALE:GREGORIAN
METHOD:PUBLISH
X-ORIGINAL-URL:https://www.bis-pinkafeld.at
X-WR-CALDESC:Veranstaltungen für BIS Pinkafeld
REFRESH-INTERVAL;VALUE=DURATION:PT1H
X-Robots-Tag:noindex
X-PUBLISHED-TTL:PT1H
BEGIN:VTIMEZONE
TZID:Europe/Vienna
BEGIN:DAYLIGHT
TZOFFSETFROM:+0100
TZOFFSETTO:+0200
TZNAME:CEST
DTSTART:20230326T010000
END:DAYLIGHT
BEGIN:STANDARD
TZOFFSETFROM:+0200
TZOFFSETTO:+0100
TZNAME:CET
DTSTART:20231029T010000
END:STANDARD
BEGIN:DAYLIGHT
TZOFFSETFROM:+0100
TZOFFSETTO:+0200
TZNAME:CEST
DTSTART:20240331T010000
END:DAYLIGHT
BEGIN:STANDARD
TZOFFSETFROM:+0200
TZOFFSETTO:+0100
TZNAME:CET
DTSTART:20241027T010000
END:STANDARD
BEGIN:DAYLIGHT
TZOFFSETFROM:+0100
TZOFFSETTO:+0200
TZNAME:CEST
DTSTART:20250330T010000
END:DAYLIGHT
BEGIN:STANDARD
TZOFFSETFROM:+0200
TZOFFSETTO:+0100
TZNAME:CET
DTSTART:20251026T010000
END:STANDARD
END:VTIMEZONE
BEGIN:VEVENT
DTSTART;TZID=Europe/Vienna:20241011T090000
DTEND;TZID=Europe/Vienna:20241011T170000
DTSTAMP:20260426T052809
CREATED:20240909T150306Z
LAST-MODIFIED:20240909T150306Z
UID:7683-1728637200-1728666000@www.bis-pinkafeld.at
SUMMARY:bibi Bildungs- und Berufsinformationsmesse Burgenland
DESCRIPTION:
URL:https://www.bis-pinkafeld.at/veranstaltung/bibi-bildungs-und-berufsinformationsmesse-burgenland-9/
LOCATION:Informhalle Oberwart\, Inform Oberwart Messezentrum\, Oberwart\, Burgenland\, 7400\, Austria
END:VEVENT
BEGIN:VEVENT
DTSTART;TZID=Europe/Vienna:20241011T100000
DTEND;TZID=Europe/Vienna:20241011T170000
DTSTAMP:20260426T052809
CREATED:20241001T072737Z
LAST-MODIFIED:20241001T072737Z
UID:7834-1728640800-1728666000@www.bis-pinkafeld.at
SUMMARY:11. Hartberger Bildungs- und Berufsmesse
DESCRIPTION:
URL:https://www.bis-pinkafeld.at/veranstaltung/11-hartberger-bildungs-und-berufsmesse/
LOCATION:Stadtwerke-Hartberg-Halle
CATEGORIES:Messe
END:VEVENT
END:VCALENDAR