BEGIN:VCALENDAR
VERSION:2.0
PRODID:-//BIS Pinkafeld - ECPv6.15.17.1//NONSGML v1.0//EN
CALSCALE:GREGORIAN
METHOD:PUBLISH
X-WR-CALNAME:BIS Pinkafeld
X-ORIGINAL-URL:https://www.bis-pinkafeld.at
X-WR-CALDESC:Veranstaltungen für BIS Pinkafeld
REFRESH-INTERVAL;VALUE=DURATION:PT1H
X-Robots-Tag:noindex
X-PUBLISHED-TTL:PT1H
BEGIN:VTIMEZONE
TZID:Europe/Vienna
BEGIN:DAYLIGHT
TZOFFSETFROM:+0100
TZOFFSETTO:+0200
TZNAME:CEST
DTSTART:20210328T010000
END:DAYLIGHT
BEGIN:STANDARD
TZOFFSETFROM:+0200
TZOFFSETTO:+0100
TZNAME:CET
DTSTART:20211031T010000
END:STANDARD
BEGIN:DAYLIGHT
TZOFFSETFROM:+0100
TZOFFSETTO:+0200
TZNAME:CEST
DTSTART:20220327T010000
END:DAYLIGHT
BEGIN:STANDARD
TZOFFSETFROM:+0200
TZOFFSETTO:+0100
TZNAME:CET
DTSTART:20221030T010000
END:STANDARD
BEGIN:DAYLIGHT
TZOFFSETFROM:+0100
TZOFFSETTO:+0200
TZNAME:CEST
DTSTART:20230326T010000
END:DAYLIGHT
BEGIN:STANDARD
TZOFFSETFROM:+0200
TZOFFSETTO:+0100
TZNAME:CET
DTSTART:20231029T010000
END:STANDARD
END:VTIMEZONE
BEGIN:VEVENT
DTSTART;TZID=Europe/Vienna:20221006T170000
DTEND;TZID=Europe/Vienna:20221006T200000
DTSTAMP:20260424T133049
CREATED:20220912T102119Z
LAST-MODIFIED:20220920T073322Z
UID:4241-1665075600-1665086400@www.bis-pinkafeld.at
SUMMARY:Schul- und Berufsinformationsmesse
DESCRIPTION:
URL:https://www.bis-pinkafeld.at/veranstaltung/schul-und-berufsinformationsmesse/
LOCATION:Stadthalle Fürstenfeld\, Wallstraße 26\, Fürstenfeld\, Steiermark\, 8280\, Austria
CATEGORIES:Messe
END:VEVENT
BEGIN:VEVENT
DTSTART;TZID=Europe/Vienna:20221007T080000
DTEND;TZID=Europe/Vienna:20221007T130000
DTSTAMP:20260424T133049
CREATED:20220912T102209Z
LAST-MODIFIED:20220920T073251Z
UID:4243-1665129600-1665147600@www.bis-pinkafeld.at
SUMMARY:Schul- und Berufsinformationsmesse
DESCRIPTION:
URL:https://www.bis-pinkafeld.at/veranstaltung/schul-und-berufsinformationsmesse-2/
LOCATION:Stadthalle Fürstenfeld\, Wallstraße 26\, Fürstenfeld\, Steiermark\, 8280\, Austria
CATEGORIES:Messe
END:VEVENT
BEGIN:VEVENT
DTSTART;TZID=Europe/Vienna:20221011T180000
DTEND;TZID=Europe/Vienna:20221011T203000
DTSTAMP:20260424T133049
CREATED:20221004T134523Z
LAST-MODIFIED:20221004T135429Z
UID:4935-1665511200-1665520200@www.bis-pinkafeld.at
SUMMARY:14 - was nun? Virtuell schnuppern\, erkunden und entdecken.
DESCRIPTION:Für den BEZIRK NEUSIEDL
URL:https://www.bis-pinkafeld.at/veranstaltung/14-was-tun-virtuell-schnuppern-erkunden-und-entdecken/
LOCATION:online
END:VEVENT
BEGIN:VEVENT
DTSTART;TZID=Europe/Vienna:20221012T180000
DTEND;TZID=Europe/Vienna:20221012T203000
DTSTAMP:20260424T133049
CREATED:20221004T134844Z
LAST-MODIFIED:20221004T135454Z
UID:4938-1665597600-1665606600@www.bis-pinkafeld.at
SUMMARY:14 - was nun? Virtuell schnuppern\, erkunden und entdecken.
DESCRIPTION:Für den BEZIRK EISENSTADT
URL:https://www.bis-pinkafeld.at/veranstaltung/14-was-nun-virtuell-schnuppern-erkunden-und-entdekcen/
LOCATION:online
END:VEVENT
BEGIN:VEVENT
DTSTART;TZID=Europe/Vienna:20221013T180000
DTEND;TZID=Europe/Vienna:20221013T203000
DTSTAMP:20260424T133049
CREATED:20221004T135018Z
LAST-MODIFIED:20221004T135018Z
UID:4942-1665684000-1665693000@www.bis-pinkafeld.at
SUMMARY:14 - was nun? Virtuell schnuppern\, erkunden und entdecken.
DESCRIPTION:Für den BEZIRK MATTERSBURG & OBERPULLENDORF
URL:https://www.bis-pinkafeld.at/veranstaltung/14-was-nun-virtuell-schnuppern-erkunden-und-entdecken/
LOCATION:online
END:VEVENT
BEGIN:VEVENT
DTSTART;TZID=Europe/Vienna:20221017T180000
DTEND;TZID=Europe/Vienna:20221017T203000
DTSTAMP:20260424T133049
CREATED:20221004T135213Z
LAST-MODIFIED:20221004T135213Z
UID:4944-1666029600-1666038600@www.bis-pinkafeld.at
SUMMARY:14 - was nun? Virtuell schnuppern\, erkunden und entdecken.
DESCRIPTION:Für den BEZIRK OBERWART
URL:https://www.bis-pinkafeld.at/veranstaltung/14-was-nun-virtuell-schnuppern-erkunden-und-entdecken-2/
LOCATION:online
END:VEVENT
BEGIN:VEVENT
DTSTART;TZID=Europe/Vienna:20221018T180000
DTEND;TZID=Europe/Vienna:20221018T203000
DTSTAMP:20260424T133049
CREATED:20221004T135327Z
LAST-MODIFIED:20221004T135327Z
UID:4946-1666116000-1666125000@www.bis-pinkafeld.at
SUMMARY:14 - was nun? Virtuell schnuppern\, erkunden und entdecken.
DESCRIPTION:Für den BEZIRK GÜSSING & JENNERSDORF
URL:https://www.bis-pinkafeld.at/veranstaltung/14-was-nun-virtuell-schnuppern-erkunden-und-entdecken-3/
LOCATION:online
END:VEVENT
BEGIN:VEVENT
DTSTART;VALUE=DATE:20221024
DTEND;VALUE=DATE:20221025
DTSTAMP:20260424T133049
CREATED:20221002T092947Z
LAST-MODIFIED:20221002T092947Z
UID:4837-1666569600-1666655999@www.bis-pinkafeld.at
SUMMARY:Schulautonom frei
DESCRIPTION:
URL:https://www.bis-pinkafeld.at/veranstaltung/schulautonom-frei-4/
END:VEVENT
BEGIN:VEVENT
DTSTART;VALUE=DATE:20221025
DTEND;VALUE=DATE:20221026
DTSTAMP:20260424T133049
CREATED:20221002T093023Z
LAST-MODIFIED:20221002T093023Z
UID:4839-1666656000-1666742399@www.bis-pinkafeld.at
SUMMARY:Schulautonom frei
DESCRIPTION:
URL:https://www.bis-pinkafeld.at/veranstaltung/schulautonom-frei-5/
END:VEVENT
BEGIN:VEVENT
DTSTART;VALUE=DATE:20221026
DTEND;VALUE=DATE:20221103
DTSTAMP:20260424T133049
CREATED:20220912T103412Z
LAST-MODIFIED:20220912T103412Z
UID:4250-1666742400-1667433599@www.bis-pinkafeld.at
SUMMARY:Herbstferien
DESCRIPTION:
URL:https://www.bis-pinkafeld.at/veranstaltung/herbstferien/
CATEGORIES:Ferien
END:VEVENT
END:VCALENDAR