BEGIN:VCALENDAR
VERSION:2.0
PRODID:-//BIS Pinkafeld - ECPv6.15.17.1//NONSGML v1.0//EN
CALSCALE:GREGORIAN
METHOD:PUBLISH
X-ORIGINAL-URL:https://www.bis-pinkafeld.at
X-WR-CALDESC:Veranstaltungen für BIS Pinkafeld
REFRESH-INTERVAL;VALUE=DURATION:PT1H
X-Robots-Tag:noindex
X-PUBLISHED-TTL:PT1H
BEGIN:VTIMEZONE
TZID:Europe/Vienna
BEGIN:DAYLIGHT
TZOFFSETFROM:+0100
TZOFFSETTO:+0200
TZNAME:CEST
DTSTART:20230326T010000
END:DAYLIGHT
BEGIN:STANDARD
TZOFFSETFROM:+0200
TZOFFSETTO:+0100
TZNAME:CET
DTSTART:20231029T010000
END:STANDARD
BEGIN:DAYLIGHT
TZOFFSETFROM:+0100
TZOFFSETTO:+0200
TZNAME:CEST
DTSTART:20240331T010000
END:DAYLIGHT
BEGIN:STANDARD
TZOFFSETFROM:+0200
TZOFFSETTO:+0100
TZNAME:CET
DTSTART:20241027T010000
END:STANDARD
BEGIN:DAYLIGHT
TZOFFSETFROM:+0100
TZOFFSETTO:+0200
TZNAME:CEST
DTSTART:20250330T010000
END:DAYLIGHT
BEGIN:STANDARD
TZOFFSETFROM:+0200
TZOFFSETTO:+0100
TZNAME:CET
DTSTART:20251026T010000
END:STANDARD
END:VTIMEZONE
BEGIN:VEVENT
DTSTART;VALUE=DATE:20240323
DTEND;VALUE=DATE:20240403
DTSTAMP:20260425T174022
CREATED:20230915T074235Z
LAST-MODIFIED:20230915T074235Z
UID:6230-1711152000-1712102399@www.bis-pinkafeld.at
SUMMARY:Osterferien
DESCRIPTION:
URL:https://www.bis-pinkafeld.at/veranstaltung/osterferien/
END:VEVENT
BEGIN:VEVENT
DTSTART;TZID=Europe/Vienna:20240430T000000
DTEND;TZID=Europe/Vienna:20240430T233000
DTSTAMP:20260425T174022
CREATED:20240228T165149Z
LAST-MODIFIED:20240228T165401Z
UID:7053-1714435200-1714519800@www.bis-pinkafeld.at
SUMMARY:Ende der Anmeldefrist für das Schuljahr 2024/25 - SOB & SPA
DESCRIPTION:
URL:https://www.bis-pinkafeld.at/veranstaltung/ende-der-anmeldungen-fuer-das-schuljahr-2024-25-sob-spa/
CATEGORIES:Anmeldeschluss
END:VEVENT
END:VCALENDAR