BEGIN:VCALENDAR
VERSION:2.0
PRODID:-//BIS Pinkafeld - ECPv6.15.17.1//NONSGML v1.0//EN
CALSCALE:GREGORIAN
METHOD:PUBLISH
X-WR-CALNAME:BIS Pinkafeld
X-ORIGINAL-URL:https://www.bis-pinkafeld.at
X-WR-CALDESC:Veranstaltungen für BIS Pinkafeld
REFRESH-INTERVAL;VALUE=DURATION:PT1H
X-Robots-Tag:noindex
X-PUBLISHED-TTL:PT1H
BEGIN:VTIMEZONE
TZID:Europe/Vienna
BEGIN:DAYLIGHT
TZOFFSETFROM:+0100
TZOFFSETTO:+0200
TZNAME:CEST
DTSTART:20230326T010000
END:DAYLIGHT
BEGIN:STANDARD
TZOFFSETFROM:+0200
TZOFFSETTO:+0100
TZNAME:CET
DTSTART:20231029T010000
END:STANDARD
BEGIN:DAYLIGHT
TZOFFSETFROM:+0100
TZOFFSETTO:+0200
TZNAME:CEST
DTSTART:20240331T010000
END:DAYLIGHT
BEGIN:STANDARD
TZOFFSETFROM:+0200
TZOFFSETTO:+0100
TZNAME:CET
DTSTART:20241027T010000
END:STANDARD
BEGIN:DAYLIGHT
TZOFFSETFROM:+0100
TZOFFSETTO:+0200
TZNAME:CEST
DTSTART:20250330T010000
END:DAYLIGHT
BEGIN:STANDARD
TZOFFSETFROM:+0200
TZOFFSETTO:+0100
TZNAME:CET
DTSTART:20251026T010000
END:STANDARD
END:VTIMEZONE
BEGIN:VEVENT
DTSTART;VALUE=DATE:20240509
DTEND;VALUE=DATE:20240510
DTSTAMP:20260425T190918
CREATED:20230915T074323Z
LAST-MODIFIED:20230915T074323Z
UID:6232-1715212800-1715299199@www.bis-pinkafeld.at
SUMMARY:Christi Himmelfahrt
DESCRIPTION:
URL:https://www.bis-pinkafeld.at/veranstaltung/christi-himmelfahrt/
END:VEVENT
BEGIN:VEVENT
DTSTART;VALUE=DATE:20240510
DTEND;VALUE=DATE:20240511
DTSTAMP:20260425T190918
CREATED:20230915T074357Z
LAST-MODIFIED:20230915T074357Z
UID:6234-1715299200-1715385599@www.bis-pinkafeld.at
SUMMARY:Schulautonom frei
DESCRIPTION:
URL:https://www.bis-pinkafeld.at/veranstaltung/schulautonom-frei-2/
END:VEVENT
BEGIN:VEVENT
DTSTART;VALUE=DATE:20240518
DTEND;VALUE=DATE:20240521
DTSTAMP:20260425T190918
CREATED:20230915T074449Z
LAST-MODIFIED:20230915T074449Z
UID:6236-1715990400-1716249599@www.bis-pinkafeld.at
SUMMARY:Pfingsten
DESCRIPTION:
URL:https://www.bis-pinkafeld.at/veranstaltung/pfingsten/
END:VEVENT
BEGIN:VEVENT
DTSTART;VALUE=DATE:20240530
DTEND;VALUE=DATE:20240531
DTSTAMP:20260425T190918
CREATED:20230915T074531Z
LAST-MODIFIED:20230915T074531Z
UID:6238-1717027200-1717113599@www.bis-pinkafeld.at
SUMMARY:Fronleichnam
DESCRIPTION:
URL:https://www.bis-pinkafeld.at/veranstaltung/fronleichnam/
END:VEVENT
BEGIN:VEVENT
DTSTART;VALUE=DATE:20240531
DTEND;VALUE=DATE:20240601
DTSTAMP:20260425T190918
CREATED:20230915T074606Z
LAST-MODIFIED:20230915T074606Z
UID:6240-1717113600-1717199999@www.bis-pinkafeld.at
SUMMARY:Schulautonom frei
DESCRIPTION:
URL:https://www.bis-pinkafeld.at/veranstaltung/schulautonom-frei-3/
END:VEVENT
END:VCALENDAR